Workbook
Name PXJ: Sheet1!$A$40:$B$42

Sheet 泵基础受力计算表
A1: 泵基础受力计算
A2: 使用说明:绿色区域为输入区域，动平衡级别是下拉菜单，其它均为自动计算区
A3: 1 | B3: 泵自重PW | C3: kg
A4: 2 | B4: 泵轴功率W | C4: KW | D4: 500
A5: 3 | B5: 转速n | C5: r/min | D5: 5000
A6: 4 | B6: 螺栓跨距L | C6: m | D6: 0.84
A7: 5 | B7: 转子总量m | C7: kg | D7: 500
A8: 6 | B8: 地脚螺栓总量Z | D8: 8
A9: 7 | B9: 单边螺栓数量 | D9: 4
A10: 8 | B10: 动平衡级别 | D10: G6.3 | F10: 欢迎关注机泵人公众号,获取更多精彩内容
A11: 9 | B11: 转子质量偏心距e | C11: m | D11: =IF(E11="",VLOOKUP(D10,PXJ,2,FALSE)*10^-6,E11) -> 1.2250431e-05 | F11: 1、如果知道转子质量偏心距可在D11输入, 2、如果不知道转子质量偏心距，D11为空，软件将参考ISO1940-1-2003标准附图A-2(见右图),根据泵的转速及动平衡等级自动计算
A12: 10 | B12: 静载荷FW | C12: N | D12: =D3*9.81/D8 -> 0 | E12: 公式： | F12: 式中 Z—地脚螺栓数 PW—泵自重（N）
A13: 11 | B13: 转矩M | C13: N.m | D13: =9555*D4/D5 -> 955.5 | E13: 公式： | F13: 式中 M—转矩（N.m），W—泵轴功率（Kw），n—转速（r/min）
A14: 12 | B14: 作用在地脚螺栓上的力矩FM | C14: N | D14: =D13/D9/D6 -> 284.375 | E14: 公式： | F14: 式中 L—螺栓跨矩（m），式中除2 表示单边两边螺栓受力矩M 作用，若螺栓数不是2 则不能除2。一般情况下泵设计地脚螺栓都是对称布置共4 支，单边两支。
A15: 13 | B15: 作用在地脚螺栓上的动载Fd | C15: N | D15: =D11*D7*POWER(PI()*D5/30,2) -> 1679.2626 | E15: 公式： | F15: 式中 L—螺栓跨矩（m），式中除2 表示单边两边螺栓受力矩M 作用，若螺栓数不是2 则不能除2。一般情况下泵设计地脚螺栓都是对称布置共4 支，单边两支。
A16: 1、 | B16: 参考资料:1、产品设计规程汇编-沈阳水泵厂-1990，2、ISO1940-1-2003
A17: 2、 | B17: 如有疑问,可联系机泵人,机泵人微信号;71672618

Sheet Sheet1
A1: 2.6022409 | B1: 1.3861915 | D1: 2.2072829 | E1: 2.1750557 | G1: 1.8011204 | H1: 2.9857461
A2: 2.697479 | B2: 1.2864143 | D2: 2.2997199 | E2: 2.0846325 | G2: 1.8431373 | H2: 2.9420935
A3: 2.7787115 | B3: 1.2053452 | D3: 2.4789916 | E3: 1.9037862 | G3: 1.9019608 | H3: 2.8859688
A4: 2.8459384 | B4: 1.1367483 | D4: 2.6022409 | E4: 1.7790646 | G4: 1.952381 | H4: 2.8329621
A5: 2.9019608 | B5: 1.0806236 | D5: 2.697479 | E5: 1.6855234 | G5: 2 | H5: 2.7893096
A6: 2.9551821 | B6: 1.030735 | D6: 2.7787115 | E6: 1.6013363 | G6: 2.2997199 | H6: 2.4868597
A7: 3 | B7: 0.98396437 | D7: 2.8459384 | E7: 1.5358575 | G7: 2.4761905 | H7: 2.3091314
A8: 3.2997199 | B8: 0.68463252 | D8: 2.9047619 | E8: 1.4766147 | G8: 2.6022409 | H8: 2.1875278
A9: 3.4789916 | B9: 0.50690423 | D9: 2.9551821 | E9: 1.4267261 | G9: 2.697479 | H9: 2.0908686
A10: 3.6022409 | B10: 0.38218263 | D10: 3 | E10: 1.3830735 | G10: 2.7787115 | H10: 2.0066815
A11: 3.7002801 | B11: 0.28240535 | D11: 3.2997199 | E11: 1.0806236 | G11: 2.8459384 | H11: 1.9412027
A12: 3.7759104 | B12: 0.20757238 | D12: 3.4789916 | E12: 0.89977728 | G12: 2.9047619 | H12: 1.8819599
... A26: 5.302521 | B26: -1.3171492 | D26: 4.9047619 | E26: -0.52516704 | G26: 4.6022409 | H26: 0.18262806
D27: 4.9551821 | E27: -0.57505568 | G27: 4.7002801 | H27: 0.08285078
D28: 5 | E28: -0.61870824 | G28: 4.7787115 | H28: 0.0017817372
D29: 5.302521 | E29: -0.92115813 | G29: 4.8459384 | H29: -0.063697105
G30: 4.9047619 | H30: -0.12293987
G31: 4.9551821 | H31: -0.17282851
G32: 5 | H32: -0.21648107
G33: 5.302521 | H33: -0.522049
A35: =LOG10(泵基础受力计算表!D5) -> 3.69897
A36: =INDEX(A1:B26,MATCH(LOG10(泵基础受力计算表!$D$5),A1:A26,1),1) -> 3.6022409 | B36: =INDEX(A1:B26,MATCH(LOG10(泵基础受力计算表!$D$5),A1:A26,1),2) -> 0.38218263 | C36: =(LOG10(泵基础受力计算表!$D$5)-A36)/(A37-A36)*(B37-B36)+B36 -> 0.28373868 | D36: =INDEX(D1:E29,MATCH(LOG10(泵基础受力计算表!$D$5),D1:D29,1),1) -> 3.6022409 | E36: =INDEX(D1:E29,MATCH(LOG10(泵基础受力计算表!$D$5),D1:D29,1),2) -> 0.77817372 | F36: =(LOG10(泵基础受力计算表!$D$5)-D36)/(D37-D36)*(E37-E36)+E36 -> 0.68280614 | G36: =INDEX(G1:H33,MATCH(LOG10(泵基础受力计算表!$D$5),G1:G33,1),1) -> 3.6022409 | H36: =INDEX(G1:H33,MATCH(LOG10(泵基础受力计算表!$D$5),G1:G33,1),2) -> 1.1835189 | I36: =(LOG10(泵基础受力计算表!$D$5)-G36)/(G37-G36)*(H37-H36)+H36 -> 1.0881514
A37: =INDEX(A1:B26,MATCH(LOG10(泵基础受力计算表!$D$5),A1:A26,1)+1,1) -> 3.7002801 | B37: =INDEX(A1:B26,MATCH(LOG10(泵基础受力计算表!$D$5),A1:A26,1)+1,2) -> 0.28240535 | C37: =10^C36 -> 1.9219349 | D37: =INDEX(D1:E29,MATCH(LOG10(泵基础受力计算表!$D$5),D1:D29,1)+1,1) -> 3.7002801 | E37: =INDEX(D1:E29,MATCH(LOG10(泵基础受力计算表!$D$5),D1:D29,1)+1,2) -> 0.68151448 | F37: =10^F36 -> 4.8173272 | G37: =INDEX(G1:H33,MATCH(LOG10(泵基础受力计算表!$D$5),G1:G33,1)+1,1) -> 3.7002801 | H37: =INDEX(G1:H33,MATCH(LOG10(泵基础受力计算表!$D$5),G1:G33,1)+1,2) -> 1.0868597 | I37: =10^I36 -> 12.250431
A40: G1.0 | B40: =C37 -> 1.9219349
A41: G2.5 | B41: =F37 -> 4.8173272
A42: G6.3 | B42: =I37 -> 12.250431
